BEGIN:VCALENDAR
VERSION:2.0
PRODID:-//Elk Cove Vineyards - ECPv6.15.17.1//NONSGML v1.0//EN
CALSCALE:GREGORIAN
METHOD:PUBLISH
X-WR-CALNAME:Elk Cove Vineyards
X-ORIGINAL-URL:https://elkcove.com
X-WR-CALDESC:Events for Elk Cove Vineyards
REFRESH-INTERVAL;VALUE=DURATION:PT1H
X-Robots-Tag:noindex
X-PUBLISHED-TTL:PT1H
BEGIN:VTIMEZONE
TZID:America/Los_Angeles
BEGIN:DAYLIGHT
TZOFFSETFROM:-0800
TZOFFSETTO:-0700
TZNAME:PDT
DTSTART:20250309T100000
END:DAYLIGHT
BEGIN:STANDARD
TZOFFSETFROM:-0700
TZOFFSETTO:-0800
TZNAME:PST
DTSTART:20251102T090000
END:STANDARD
BEGIN:DAYLIGHT
TZOFFSETFROM:-0800
TZOFFSETTO:-0700
TZNAME:PDT
DTSTART:20260308T100000
END:DAYLIGHT
BEGIN:STANDARD
TZOFFSETFROM:-0700
TZOFFSETTO:-0800
TZNAME:PST
DTSTART:20261101T090000
END:STANDARD
BEGIN:DAYLIGHT
TZOFFSETFROM:-0800
TZOFFSETTO:-0700
TZNAME:PDT
DTSTART:20270314T100000
END:DAYLIGHT
BEGIN:STANDARD
TZOFFSETFROM:-0700
TZOFFSETTO:-0800
TZNAME:PST
DTSTART:20271107T090000
END:STANDARD
END:VTIMEZONE
BEGIN:VEVENT
DTSTART;VALUE=DATE:20260401
DTEND;VALUE=DATE:20260501
DTSTAMP:20260421T110448
CREATED:20251216T235737Z
LAST-MODIFIED:20260402T231556Z
UID:10004842-1775001600-1777593599@elkcove.com
SUMMARY:April Club Crawl
DESCRIPTION:This April\, we are hosting a Club Crawl with our friends at Lemelson\, Balsall Creek\, Dobbes and Pike Road. This month-long club share event is exclusively for Elk Cove Roosevelt Club Members (check your email for details!) and members of partner winery wine clubs.
URL:https://elkcove.com/event/april-club-crawl/
LOCATION:Elk Cove Vineyards\, 27751 NW Olson Road\, Gaston\, OR\, 97119\, United States
ATTACH;FMTTYPE=image/jpeg:https://elkcove.com/assets/2025/12/ElkCoveLifestyle-274-1-scaled.jpg
END:VEVENT
BEGIN:VEVENT
DTSTART;TZID=America/Los_Angeles:20260508T150000
DTEND;TZID=America/Los_Angeles:20260508T180000
DTSTAMP:20260421T110448
CREATED:20260205T181956Z
LAST-MODIFIED:20260317T232138Z
UID:10004870-1778252400-1778263200@elkcove.com
SUMMARY:Club Social
DESCRIPTION:Drop by the Estate Room between 3-6 pm and receive a complimentary glass of Elk Cove wine served with light snacks. Club exclusive event. \nTheme TBD
URL:https://elkcove.com/event/club-social-3/
LOCATION:Elk Cove Vineyards\, 27751 NW Olson Road\, Gaston\, OR\, 97119\, United States
ATTACH;FMTTYPE=image/jpeg:https://elkcove.com/assets/2026/02/ElkCoveLifestyle-305-1-scaled.jpg
END:VEVENT
BEGIN:VEVENT
DTSTART;VALUE=DATE:20260510
DTEND;VALUE=DATE:20260511
DTSTAMP:20260421T110448
CREATED:20251216T235401Z
LAST-MODIFIED:20260413T182213Z
UID:10004841-1778371200-1778457599@elkcove.com
SUMMARY:Mother's Day Weekend in the Tasting Room
DESCRIPTION:Stay tuned for details.
URL:https://elkcove.com/event/mothers-day-weekend-in-the-tasting-room/
LOCATION:Elk Cove Vineyards\, 27751 NW Olson Road\, Gaston\, OR\, 97119\, United States
ATTACH;FMTTYPE=image/jpeg:https://elkcove.com/assets/2025/12/2023_08_18_Golden_Hour-2622_HR-1-scaled.jpg
END:VEVENT
BEGIN:VEVENT
DTSTART;VALUE=DATE:20260523
DTEND;VALUE=DATE:20260525
DTSTAMP:20260421T110448
CREATED:20260205T185032Z
LAST-MODIFIED:20260310T182103Z
UID:10004871-1779494400-1779667199@elkcove.com
SUMMARY:Elk Cove Anniversary Weekend
DESCRIPTION:Join us Memorial Day weekend for a special $25 flight featuring some of our most popular wines! On Saturday\, May 23rd & Sunday\, May 24th\, food will be available for purchase exclusively from local favorite Los Kopitos food truck\, who will be serving up their delicious Mexican cuisine. \nWe’ll also offer our featured flight on Monday\, May 25th\, with food boards available for purchase from our kitchen. \nReservations are recommended\, though walk-ins are always welcome. \nReserve your spot
URL:https://elkcove.com/event/memorial-weekend-in-the-tasting-room/
LOCATION:Elk Cove Vineyards\, 27751 NW Olson Road\, Gaston\, OR\, 97119\, United States
ATTACH;FMTTYPE=image/jpeg:https://elkcove.com/assets/2026/02/2024_08_10_Rising_Tide-5837_LR.jpg
END:VEVENT
BEGIN:VEVENT
DTSTART;VALUE=DATE:20260606
DTEND;VALUE=DATE:20260607
DTSTAMP:20260421T110448
CREATED:20251217T004719Z
LAST-MODIFIED:20260122T234100Z
UID:10004845-1780704000-1780790399@elkcove.com
SUMMARY:Club Block Party
DESCRIPTION:Join us on Saturday\, June 6th\, for a block party to celebrate you! Enjoy sandwiches and salad from Renegade Food Truck\, live music by local band Tanner Cundy + Two (his percussionist has played with Pink Martini) and\, of course\, delicious Elk Cove wines. This event is complimentary for all Roosevelt club members (up to four). We can’t wait to see you there! Club exclusive event
URL:https://elkcove.com/event/club-block-party/
LOCATION:Elk Cove Vineyards\, 27751 NW Olson Road\, Gaston\, OR\, 97119\, United States
ATTACH;FMTTYPE=image/jpeg:https://elkcove.com/assets/2025/12/2025_06_07_Club_Block_Party_0I2A8622-1-scaled.jpg
END:VEVENT
BEGIN:VEVENT
DTSTART;VALUE=DATE:20260613
DTEND;VALUE=DATE:20260614
DTSTAMP:20260421T110448
CREATED:20260123T001848Z
LAST-MODIFIED:20260413T165141Z
UID:10004863-1781308800-1781395199@elkcove.com
SUMMARY:Legacy Summer Camp
DESCRIPTION:Legacy Summer Camp is an all-day wine experience celebrating second-generation winemakers with Et Fille\, Ridgecrest and Elk Cove. \n\nEnjoy guided transportation\, a light charcuterie lunch\, tastings of 3–4 wines at each winery with the winemakers\, all culminating in a thoughtfully prepared wine dinner featuring special bottles and magnums. \nThis experience is capped at just 30 guests. Tickets are $195/ $175 for club members (up to 2). \nGet Tickets \n 
URL:https://elkcove.com/event/legacy-summer-camp/
LOCATION:Elk Cove Vineyards\, 27751 NW Olson Road\, Gaston\, OR\, 97119\, United States
ATTACH;FMTTYPE=image/png:https://elkcove.com/assets/2026/01/legacySC-logo-scaled.png
END:VEVENT
BEGIN:VEVENT
DTSTART;TZID=America/Los_Angeles:20260620T160000
DTEND;TZID=America/Los_Angeles:20260620T190000
DTSTAMP:20260421T110448
CREATED:20251217T005517Z
LAST-MODIFIED:20260318T174719Z
UID:10004846-1781971200-1781982000@elkcove.com
SUMMARY:Rising Tide Wine Fest
DESCRIPTION:Spend an afternoon in the inland cove\, tasting wines from independent local wine producers among the vines at Elk Cove Vineyards.\nDetails: Ticket includes wine samples from 15 participating wineries and a Rising Tide Wine Fest commemorative glass. Food will be available for purchase from the Renegade food truck\, with DJ Action Slacks spinning yacht rock. This is a 21+ adult event. We hope you can join us! \nVisit risingtidewinefest.com for more information. \nGet Tickets!\n  \nParticipating wineries for Rising Tide Wine Fest 2026: Alumbra\, Approachment\, Bellingar\, Copius\, Elk Cove\, Lerzi\, Limited Addition\, Liska\, Maypop\, Mendivia\, Pike Road\, Project M\, Rubato\, Satyr Fire\, Timothy Malone \n 
URL:https://elkcove.com/event/rising-tide-wine-fest/
LOCATION:Elk Cove Vineyards\, 27751 NW Olson Road\, Gaston\, OR\, 97119\, United States
ATTACH;FMTTYPE=image/jpeg:https://elkcove.com/assets/2025/12/2024_08_10_Rising_Tide-5908_LR.jpg
END:VEVENT
BEGIN:VEVENT
DTSTART;VALUE=DATE:20260621
DTEND;VALUE=DATE:20260622
DTSTAMP:20260421T110448
CREATED:20260205T185830Z
LAST-MODIFIED:20260205T185830Z
UID:10004872-1782000000-1782086399@elkcove.com
SUMMARY:Fathers Day in the Tasting Room
DESCRIPTION:Treat Dad to something delicious! Join us for a featured tasting flight and crave-worthy bites (available for purchase) from the Renegade Food Truck – think smash burgers and melty grilled cheese. Father’s Day plans = handled
URL:https://elkcove.com/event/fathers-day-in-the-tasting-room/
LOCATION:Elk Cove Vineyards\, 27751 NW Olson Road\, Gaston\, OR\, 97119\, United States
ATTACH;FMTTYPE=image/jpeg:https://elkcove.com/assets/2024/10/2023_08_18_Golden_Hour-2917_HR-scaled.jpg
END:VEVENT
BEGIN:VEVENT
DTSTART;VALUE=DATE:20260711
DTEND;VALUE=DATE:20260712
DTSTAMP:20260421T110448
CREATED:20251217T182138Z
LAST-MODIFIED:20251217T182138Z
UID:10004848-1783728000-1783814399@elkcove.com
SUMMARY:Opera in the Vineyard
DESCRIPTION:Join us for Portland Opera’s Opera a la Cart at Elk Cove! Pack a picnic\, bring a blanket\, and listen to operatic arias floating over the vines. This is a complimentary event. Wine will be available by the bottle.
URL:https://elkcove.com/event/opera-in-the-vineyard/
LOCATION:Elk Cove Vineyards\, 27751 NW Olson Road\, Gaston\, OR\, 97119\, United States
ATTACH;FMTTYPE=image/jpeg:https://elkcove.com/assets/2021/02/180722_Opera-1911_LR.jpg
END:VEVENT
BEGIN:VEVENT
DTSTART;VALUE=DATE:20260718
DTEND;VALUE=DATE:20260719
DTSTAMP:20260421T110448
CREATED:20251217T182425Z
LAST-MODIFIED:20260317T230923Z
UID:10004849-1784332800-1784419199@elkcove.com
SUMMARY:Cove Notes Music Fest
DESCRIPTION:Unwind on our Estate lawn with live performances from two local bands Falcon Heart & Swizzle Chicks\, a curated vendor lineup\, an Elk Cove wine bar\, and gourmet offerings from Wooden Heart Food Truck. \nThis event is open to all ages. Kids under 12 are free\, minors ages 12–20 are $20 each\, and adult tickets are $35 and include your first glass of wine! \nGet tickets!
URL:https://elkcove.com/event/cove-notes-music-fest/
LOCATION:Elk Cove Vineyards\, 27751 NW Olson Road\, Gaston\, OR\, 97119\, United States
ATTACH;FMTTYPE=image/png:https://elkcove.com/assets/2025/12/CoveNotesMusicFestLogo3-2-scaled.png
END:VEVENT
BEGIN:VEVENT
DTSTART;VALUE=DATE:20260725
DTEND;VALUE=DATE:20260726
DTSTAMP:20260421T110448
CREATED:20251217T182710Z
LAST-MODIFIED:20251217T182710Z
UID:10004850-1784937600-1785023999@elkcove.com
SUMMARY:Summer Field & Vine Dinner
DESCRIPTION:Stay tuned for details.
URL:https://elkcove.com/event/summer-field-vine-dinner/
LOCATION:Elk Cove Vineyards\, 27751 NW Olson Road\, Gaston\, OR\, 97119\, United States
ATTACH;FMTTYPE=image/jpeg:https://elkcove.com/assets/2025/03/field-and-vine-dinner.jpg
END:VEVENT
BEGIN:VEVENT
DTSTART;TZID=America/Los_Angeles:20260822T053000
DTEND;TZID=America/Los_Angeles:20260822T083000
DTSTAMP:20260421T110448
CREATED:20251217T184119Z
LAST-MODIFIED:20260403T194015Z
UID:10004853-1787376600-1787387400@elkcove.com
SUMMARY:Supper in the Cellar
DESCRIPTION:On August 22nd\, we’re partnering with our friends at Field + Vine Events to host a five-course dinner in Big Red\, the winemaking space reserved for our Pinot Noir production. Each dish will be thoughtfully paired with an Elk Cove wine\, and the lineup will include selections from our library. In addition\, Associate Winemaker Heather Perkin will lead a discussion on the process of Pinot Noir winemaking. This exclusive look behind the scenes is limited to 65 guests\, so get your tickets today! \nTickets coming soon!
URL:https://elkcove.com/event/barrel-hall-tasting/
LOCATION:Elk Cove Vineyards\, 27751 NW Olson Road\, Gaston\, OR\, 97119\, United States
CATEGORIES:Dinner
ATTACH;FMTTYPE=image/jpeg:https://elkcove.com/assets/2023/10/2023_08_18_Golden_Hour-2797_HR-scaled.jpg
END:VEVENT
BEGIN:VEVENT
DTSTART;VALUE=DATE:20260912
DTEND;VALUE=DATE:20260913
DTSTAMP:20260421T110448
CREATED:20251217T184754Z
LAST-MODIFIED:20251217T184830Z
UID:10004854-1789171200-1789257599@elkcove.com
SUMMARY:Club Picnic
DESCRIPTION:Club members save the date! Stay tuned for details.
URL:https://elkcove.com/event/club-picnic/
LOCATION:Elk Cove Vineyards\, 27751 NW Olson Road\, Gaston\, OR\, 97119\, United States
ATTACH;FMTTYPE=image/jpeg:https://elkcove.com/assets/2024/10/2023_08_18_Golden_Hour-2917_HR-scaled.jpg
END:VEVENT
BEGIN:VEVENT
DTSTART;VALUE=DATE:20260913
DTEND;VALUE=DATE:20260914
DTSTAMP:20260421T110448
CREATED:20251217T185046Z
LAST-MODIFIED:20251217T185046Z
UID:10004855-1789257600-1789343999@elkcove.com
SUMMARY:Vineyard Hike
DESCRIPTION:Stay tuned for details.
URL:https://elkcove.com/event/vineyard-hike/
LOCATION:Elk Cove Vineyards\, 27751 NW Olson Road\, Gaston\, OR\, 97119\, United States
ATTACH;FMTTYPE=image/jpeg:https://elkcove.com/assets/2022/02/20210926_Hike-1599_LR.jpg
END:VEVENT
BEGIN:VEVENT
DTSTART;VALUE=DATE:20260919
DTEND;VALUE=DATE:20260920
DTSTAMP:20260421T110448
CREATED:20251217T185342Z
LAST-MODIFIED:20260402T232342Z
UID:10004856-1789776000-1789862399@elkcove.com
SUMMARY:Collectors Club Dinner
DESCRIPTION:The Campbell family hosts members of our Collectors Club exclusively for a complimentary dinner to celebrate harvest and show our appreciation. This is a special multi-course dining experience complimented by Elk Cove library wines. By reservation only. \n Complimentary for members of the Collectors Wine Club. Not a member yet? Find out how to join this Pinot Noir only wine club here.
URL:https://elkcove.com/event/collectors-club-winemakers-dinner/
LOCATION:Elk Cove Vineyards\, 27751 NW Olson Road\, Gaston\, OR\, 97119\, United States
ATTACH;FMTTYPE=image/jpeg:https://elkcove.com/assets/2022/01/20211018_Collectors_Club-1530_LR.jpg
END:VEVENT
BEGIN:VEVENT
DTSTART;TZID=America/Los_Angeles:20261107T150000
DTEND;TZID=America/Los_Angeles:20261107T170000
DTSTAMP:20260421T110448
CREATED:20251217T185655Z
LAST-MODIFIED:20260205T231149Z
UID:10004857-1794063600-1794070800@elkcove.com
SUMMARY:Brine & Bubbles Happy Hour - Club Exclusive Event
DESCRIPTION:Join us for an indulgent happy hour of fresh oysters and sparkling wine at Elk Cove Vineyards. Our new releases of sparkling wine will be flowing to perfectly pair with the fresh oysters and a curated selection of accompaniments. Come raise a glass with us to toast the upcoming holiday season! \nClub exclusive event
URL:https://elkcove.com/event/brine-bubbles-happy-hour/
LOCATION:Elk Cove Vineyards\, 27751 NW Olson Road\, Gaston\, OR\, 97119\, United States
ATTACH;FMTTYPE=image/jpeg:https://elkcove.com/assets/2025/05/BrutRoseBanner-2-edited.jpg
END:VEVENT
BEGIN:VEVENT
DTSTART;VALUE=DATE:20261128
DTEND;VALUE=DATE:20261129
DTSTAMP:20260421T110448
CREATED:20251217T190555Z
LAST-MODIFIED:20251217T190555Z
UID:10004858-1795824000-1795910399@elkcove.com
SUMMARY:Holiday Market at Elk Cove Vineyards
DESCRIPTION:Join us for a festive day of wine and holiday shopping. Enjoy a wine tasting while exploring our Holiday Market\, featuring 10+ amazing local vendors in our gorgeous Estate Room. Bring your family and friends and shop local before the holiday rush begins.
URL:https://elkcove.com/event/holiday-market-at-elk-cove-vineyards/
LOCATION:Elk Cove Vineyards\, 27751 NW Olson Road\, Gaston\, OR\, 97119\, United States
ATTACH;FMTTYPE=image/jpeg:https://elkcove.com/assets/2025/12/2024_11_30_Holiday_Market-1722-MR16111397-scaled.jpg
END:VEVENT
END:VCALENDAR