BEGIN:VCALENDAR
VERSION:2.0
PRODID:-//Elk Cove Vineyards - ECPv6.15.17.1//NONSGML v1.0//EN
CALSCALE:GREGORIAN
METHOD:PUBLISH
X-WR-CALNAME:Elk Cove Vineyards
X-ORIGINAL-URL:https://elkcove.com
X-WR-CALDESC:Events for Elk Cove Vineyards
REFRESH-INTERVAL;VALUE=DURATION:PT1H
X-Robots-Tag:noindex
X-PUBLISHED-TTL:PT1H
BEGIN:VTIMEZONE
TZID:America/Los_Angeles
BEGIN:DAYLIGHT
TZOFFSETFROM:-0800
TZOFFSETTO:-0700
TZNAME:PDT
DTSTART:20240310T100000
END:DAYLIGHT
BEGIN:STANDARD
TZOFFSETFROM:-0700
TZOFFSETTO:-0800
TZNAME:PST
DTSTART:20241103T090000
END:STANDARD
BEGIN:DAYLIGHT
TZOFFSETFROM:-0800
TZOFFSETTO:-0700
TZNAME:PDT
DTSTART:20250309T100000
END:DAYLIGHT
BEGIN:STANDARD
TZOFFSETFROM:-0700
TZOFFSETTO:-0800
TZNAME:PST
DTSTART:20251102T090000
END:STANDARD
BEGIN:DAYLIGHT
TZOFFSETFROM:-0800
TZOFFSETTO:-0700
TZNAME:PDT
DTSTART:20260308T100000
END:DAYLIGHT
BEGIN:STANDARD
TZOFFSETFROM:-0700
TZOFFSETTO:-0800
TZNAME:PST
DTSTART:20261101T090000
END:STANDARD
END:VTIMEZONE
BEGIN:VEVENT
DTSTART;TZID=America/Los_Angeles:20251206T173000
DTEND;TZID=America/Los_Angeles:20251206T203000
DTSTAMP:20260421T135852
CREATED:20250131T004153Z
LAST-MODIFIED:20251121T230944Z
UID:10004806-1765042200-1765053000@elkcove.com
SUMMARY:Murder Mystery Wine Dinner
DESCRIPTION:Come to the quintessential whodunnit thriller at the estate of Sir Joseph Campbell and get thrown into a night of mystery\, intrigue\, and murder you will never forget. With a killer crowd of people just waiting for murder to arrive on the scene\, this night will keep everyone looking over their shoulders and guessing who the next victim will be! Bribe suspects for clues and gather information to uncover the unhinged guest who is whacking all the invitees. Just be careful\, because you could be next! \nDress your best in 1930s Old-Hollywood-inspired evening wear – this is a refined party\, after all. \nTicket includes an elegant 4-course dinner courtesy of Caballero’s Catering and generous pours of Elk Cove wines. \n$165/$145 for club. Get tickets! \n  \nFEATURED MENU\nHors d’oeuvre \nFig tart topped with crispy prosciutto \nFirst Course \nCreamy butternut squash soup \nSecond Course \nButter steak with au gratin potatoes\, demi sauce\, and local vegetables \nDessert \nRed velvet cake \n \n 
URL:https://elkcove.com/event/murder-mystery-wine-dinner-2025/
LOCATION:Elk Cove Vineyards\, 27751 NW Olson Road\, Gaston\, OR\, 97119\, United States
ATTACH;FMTTYPE=image/jpeg:https://elkcove.com/assets/2025/01/25_09_Murder_Mystery_Dinner_v3.jpg
END:VEVENT
BEGIN:VEVENT
DTSTART;VALUE=DATE:20251129
DTEND;VALUE=DATE:20251130
DTSTAMP:20260421T135852
CREATED:20250102T225656Z
LAST-MODIFIED:20251105T223032Z
UID:10004799-1764374400-1764460799@elkcove.com
SUMMARY:Flights + Bites/Holiday Market
DESCRIPTION:Join us for a festive day of wine\, food\, and holiday shopping. Enjoy a special flight of Elk Cove wines paired with small bites. While you taste\, explore our Holiday Market featuring 10+ amazing local vendors in our gorgeous Estate Room and enjoy a complimentary glass of sparkling wine. Bring your family and friends and shop local before the holiday rush begins. \n5% of all Elk Cove sales during our Flights + Bites/Holiday Market event will be donated to our local YCAP chapter to help the most vulnerable during this holiday season. \nGet Tickets
URL:https://elkcove.com/event/flight-bites-november-2025/
LOCATION:Elk Cove Vineyards\, 27751 NW Olson Road\, Gaston\, OR\, 97119\, United States
CATEGORIES:Wine Pairings,Wine Tasting
ATTACH;FMTTYPE=image/jpeg:https://elkcove.com/assets/2024/12/flightsbites2.jpg
END:VEVENT
BEGIN:VEVENT
DTSTART;TZID=America/Los_Angeles:20251031T100000
DTEND;TZID=America/Los_Angeles:20251031T170000
DTSTAMP:20260421T135852
CREATED:20251001T215824Z
LAST-MODIFIED:20251006T202410Z
UID:10004826-1761904800-1761930000@elkcove.com
SUMMARY:Halloween In The Tasting Room
DESCRIPTION:Join us in the tasting room\, Friday\, Oct. 31! Dress as your favorite movie character for a complimentary Estate Flight and compete in our costume contest! \nBook a tasting!
URL:https://elkcove.com/event/halloween-in-the-tasting-room/
LOCATION:Elk Cove Vineyards\, 27751 NW Olson Road\, Gaston\, OR\, 97119\, United States
ATTACH;FMTTYPE=image/png:https://elkcove.com/assets/2025/10/shutterstock_1825346312-3.png
END:VEVENT
BEGIN:VEVENT
DTSTART;VALUE=DATE:20250920
DTEND;VALUE=DATE:20250921
DTSTAMP:20260421T135852
CREATED:20250102T221312Z
LAST-MODIFIED:20250102T224509Z
UID:10004797-1758326400-1758412799@elkcove.com
SUMMARY:Collectors Club Winemaker's Dinner
DESCRIPTION:The Campbell family hosts members of our Collectors Club for a complimentary dinner to celebrate harvest and show our appreciation. This is a special multi-course dining experience complimented by Elk Cove library wines. \nComplimentary for members of the Collectors Wine Club. Not a member yet? Find out how to join this Pinot Noir only wine club here. \nQuestions?
URL:https://elkcove.com/event/winemakers-dinner-collectors-2025/
LOCATION:Elk Cove Vineyards\, 27751 NW Olson Road\, Gaston\, OR\, 97119\, United States
CATEGORIES:Culinary,Dinner
ATTACH;FMTTYPE=image/jpeg:https://elkcove.com/assets/2022/01/20211018_Collectors_Club-1530_LR.jpg
END:VEVENT
BEGIN:VEVENT
DTSTART;TZID=America/Los_Angeles:20250914T100000
DTEND;TZID=America/Los_Angeles:20250914T113000
DTSTAMP:20260421T135852
CREATED:20250102T214304Z
LAST-MODIFIED:20250627T175150Z
UID:10004796-1757844000-1757849400@elkcove.com
SUMMARY:Vineyard Hike IV
DESCRIPTION:Enjoy the brisk morning air while on a hike with Creative Director and family member Anna Campbell! She’ll guide outdoor enthusiasts to remote parts of our Winery Estate\, touring the vineyards while sharing personal stories about growing up at Elk Cove Vineyards. \nEach hike is designed to explore different seasonal topics in viticulture\, winemaking and family history. \nHikes are mostly moderate activity level with some difficulty. We recommend sturdy shoes\, sun protection and a moderate level of fitness for this rugged experience out in the vineyards. The hike is approximately 2 miles with hills and uneven ground. If you’d like to enjoy a tasting flight after\, we strongly recommend making a reservation in advance for a tasting at noon. \nBook your reservation \nAbout your host: \nAnna grew up at Elk Cove and worked a harvest every few years before returning to the family business in 2012. Trained as a photographer\, Anna manages our websites\, creates marketing materials and runs our newsletters and social media channels. She holds a master’s degree in strategic communication from the University of Oregon. Anna can often be found hiking to an Oregon waterfall with her wife Tex and their twins. \n 
URL:https://elkcove.com/event/hikes-iv-2025/
LOCATION:Elk Cove Vineyards\, 27751 NW Olson Road\, Gaston\, OR\, 97119\, United States
CATEGORIES:Hike
ATTACH;FMTTYPE=image/jpeg:https://elkcove.com/assets/2022/02/20210926_Hike-1599_LR.jpg
END:VEVENT
BEGIN:VEVENT
DTSTART;VALUE=DATE:20250913
DTEND;VALUE=DATE:20250914
DTSTAMP:20260421T135852
CREATED:20250102T225134Z
LAST-MODIFIED:20250829T221657Z
UID:10004798-1757721600-1757807999@elkcove.com
SUMMARY:Flights + Bites
DESCRIPTION:Join us for wine and food pairings featuring a special flight of Elk Cove wines paired with foods that enhance the tasting experience. This month’s Flights + Bites pairs our wines with Moroccan-themed bites from Biscuit & Pickles. \n$45/$15 for club members. \nBook your spot!
URL:https://elkcove.com/event/flight-bites-september-2025/
LOCATION:Elk Cove Vineyards\, 27751 NW Olson Road\, Gaston\, OR\, 97119\, United States
CATEGORIES:Wine Pairings,Wine Tasting
ATTACH;FMTTYPE=image/jpeg:https://elkcove.com/assets/2024/12/flightsbites2.jpg
END:VEVENT
BEGIN:VEVENT
DTSTART;TZID=America/Los_Angeles:20250912T173000
DTEND;TZID=America/Los_Angeles:20250912T203000
DTSTAMP:20260421T135852
CREATED:20250102T213947Z
LAST-MODIFIED:20250516T204009Z
UID:10004795-1757698200-1757709000@elkcove.com
SUMMARY:Vibes & Vines
DESCRIPTION:Join us for Vibes & Vines\, a Friday evening concert series in the vineyard. We’re bringing our favorite local bands to our amphitheater to enjoy while sipping Elk Cove wines\, available by the bottle. Come early to score a picnic table or bring your own blanket and chairs. Picnics are welcome and we’ll also have a food truck for hungry guests. Cheers to summer Vibes & Vines! \nOn September 12th\, we’ll feature acoustic rock tribute band\, Motel Kalifornia\, with upscale Mexican food from Los Kopitos.  \n  \nTickets are $10. Get your Vibes & Vines tickets here! \n  \nPhotos from 2024 Vibes & Vines:
URL:https://elkcove.com/event/vibes-vines-september-2025/
LOCATION:Elk Cove Vineyards\, 27751 NW Olson Road\, Gaston\, OR\, 97119\, United States
CATEGORIES:Performance
ATTACH;FMTTYPE=image/png:https://elkcove.com/assets/2024/03/Vibes_and_Vibes_logos-03.png
END:VEVENT
BEGIN:VEVENT
DTSTART;TZID=America/Los_Angeles:20250822T173000
DTEND;TZID=America/Los_Angeles:20250822T203000
DTSTAMP:20260421T135852
CREATED:20250102T212634Z
LAST-MODIFIED:20250822T202332Z
UID:10004792-1755883800-1755894600@elkcove.com
SUMMARY:CANCELLED: Vibes & Vines
DESCRIPTION:***CANCELLED DUE TO HEAT*** \nJoin us for Vibes & Vines\, a Friday evening concert series in the vineyard. We’re bringing our favorite local bands to our amphitheater to enjoy while sipping Elk Cove wines\, available by the bottle. Come early to score a picnic table or bring your own blanket and chairs. Picnics are welcome and we’ll also have a food truck for hungry guests. Cheers to summer Vibes & Vines! \nOn August 22\, we’ll feature Portland Dance Band\, Stump City Soul\, with delicious bites from Los Kopitos Mexican Cocina. \n  \nTickets are $10. Get your Vibes & Vines tickets here! \n  \nVibes & Vines 2025 dates: \nSeptember 12th | Motel Kalifornia & Los Kopitos \n  \nPhotos from 2024 Vibes & Vines:
URL:https://elkcove.com/event/vibes-vines-august-2025/
LOCATION:Elk Cove Vineyards\, 27751 NW Olson Road\, Gaston\, OR\, 97119\, United States
CATEGORIES:Performance
ATTACH;FMTTYPE=image/png:https://elkcove.com/assets/2024/03/Vibes_and_Vibes_logos-03.png
END:VEVENT
BEGIN:VEVENT
DTSTART;TZID=America/Los_Angeles:20250817T100000
DTEND;TZID=America/Los_Angeles:20250817T113000
DTSTAMP:20260421T135852
CREATED:20250102T213319Z
LAST-MODIFIED:20250627T175112Z
UID:10004793-1755424800-1755430200@elkcove.com
SUMMARY:Vineyard Hike III
DESCRIPTION:Enjoy the brisk morning air while on a hike with Creative Director and family member Anna Campbell! She’ll guide outdoor enthusiasts to remote parts of our Winery Estate\, touring the vineyards while sharing personal stories about growing up at Elk Cove Vineyards. \nEach hike is designed to explore different seasonal topics in viticulture\, winemaking and family history. \nHikes are mostly moderate activity level with some difficulty. We recommend sturdy shoes\, sun protection and a moderate level of fitness for this rugged experience out in the vineyards. The hike is approximately 2 miles with hills and uneven ground. If you’d like to enjoy a tasting flight after\, we strongly recommend making a reservation in advance for a tasting at noon. \nBook your reservation \nAbout your host: \nAnna grew up at Elk Cove and worked a harvest every few years before returning to the family business in 2012. Trained as a photographer\, Anna manages our websites\, creates marketing materials and runs our newsletters and social media channels. She holds a master’s degree in strategic communication from the University of Oregon. Anna can often be found hiking to an Oregon waterfall with her wife Tex and their twins. \n 
URL:https://elkcove.com/event/hikes-iii-2025/
LOCATION:Elk Cove Vineyards\, 27751 NW Olson Road\, Gaston\, OR\, 97119\, United States
CATEGORIES:Hike
ATTACH;FMTTYPE=image/jpeg:https://elkcove.com/assets/2022/02/20210926_Hike-1599_LR.jpg
END:VEVENT
BEGIN:VEVENT
DTSTART;TZID=America/Los_Angeles:20250816T160000
DTEND;TZID=America/Los_Angeles:20250816T210000
DTSTAMP:20260421T135852
CREATED:20250807T201735Z
LAST-MODIFIED:20250807T201852Z
UID:10004825-1755360000-1755378000@elkcove.com
SUMMARY:Forest Grove UnCorked
DESCRIPTION:Join us! August 16\, 4-9 PM\, we’ll be pouring at Forest Grove UnCorked. \n“Uncorked” in Forest Grove. Celebrate in the streets of Forest Grove for the downtown annual “Uncorked” event. This event features Oregon’s abundance of fine wineries\, micro-brew\, spirits\, skillfully crafted food\, fine arts\, and local music talent.  Stroll Main Street to see what’s what\, hear the live music (dance in the street if you like)\, enjoy all there is to taste\, and participate in a raffle for a chance to win a half wine barrel full of wine-related wares! 100% of the raffle proceeds are donated to our charity. \nThe particulars: \nAdmission is $13 online until August 10\, $15 online until August 15 or at the gate.\nPortion of gate proceeds will go to local Veteran Organizations.\nThis is a 21 and over only event.\nNo dogs allowed\, except service dogs.\nNominal tasting fees may apply. \nFor more information\, visit fguncorked.com \nGet tickets!
URL:https://elkcove.com/event/forest-grove-uncorked/
LOCATION:Elk Cove Vineyards\, 27751 NW Olson Road\, Gaston\, OR\, 97119\, United States
ATTACH;FMTTYPE=image/jpeg:https://elkcove.com/assets/2025/08/forestgroveuncorked.jpg
END:VEVENT
BEGIN:VEVENT
DTSTART;VALUE=DATE:20250726
DTEND;VALUE=DATE:20250727
DTSTAMP:20260421T135852
CREATED:20241213T005346Z
LAST-MODIFIED:20250616T163352Z
UID:10004790-1753488000-1753574399@elkcove.com
SUMMARY:Flights + Bites
DESCRIPTION:Flights + Bites | Saturday\, July 26th\, 2025 | 10am – 5pm \nJoin us for wine and food pairings featuring a special flight of Elk Cove wines paired with foods that enhance the tasting experience. Our July Flights + Bites event will feature a pizza and flatbread theme\, with catering by Trellis Dundee. \n$45/$15 for club members. \nReservations are required. Book your spot!
URL:https://elkcove.com/event/flight-bites-july-2025/
LOCATION:Elk Cove Vineyards\, 27751 NW Olson Road\, Gaston\, OR\, 97119\, United States
CATEGORIES:Wine Pairings,Wine Tasting
ATTACH;FMTTYPE=image/jpeg:https://elkcove.com/assets/2024/12/flightsbites2.jpg
END:VEVENT
BEGIN:VEVENT
DTSTART;TZID=America/Los_Angeles:20250720T100000
DTEND;TZID=America/Los_Angeles:20250720T113000
DTSTAMP:20260421T135852
CREATED:20241212T211305Z
LAST-MODIFIED:20250627T175020Z
UID:10004784-1753005600-1753011000@elkcove.com
SUMMARY:Vineyard Hike II
DESCRIPTION:Enjoy the brisk morning air while on a hike with Creative Director and family member Anna Campbell! She’ll guide outdoor enthusiasts to remote parts of our Winery Estate\, touring the vineyards while sharing personal stories about growing up at Elk Cove Vineyards. \nEach hike is designed to explore different seasonal topics in viticulture\, winemaking and family history. \nHikes are mostly moderate activity level with some difficulty. We recommend sturdy shoes\, sun protection and a moderate level of fitness for this rugged experience out in the vineyards. The hike is approximately 2 miles with hills and uneven ground. If you’d like to enjoy a tasting flight after\, we strongly recommend making a reservation in advance for a tasting at noon. \nBook your reservation \nAbout your host: \nAnna grew up at Elk Cove and worked a harvest every few years before returning to the family business in 2012. Trained as a photographer\, Anna manages our websites\, creates marketing materials and runs our newsletters and social media channels. She holds a master’s degree in strategic communication from the University of Oregon. Anna can often be found hiking to an Oregon waterfall with her wife Tex and their twins. \n 
URL:https://elkcove.com/event/hikes-ii-2025/
LOCATION:Elk Cove Vineyards\, 27751 NW Olson Road\, Gaston\, OR\, 97119\, United States
CATEGORIES:Hike
ATTACH;FMTTYPE=image/jpeg:https://elkcove.com/assets/2022/02/20210926_Hike-1599_LR.jpg
END:VEVENT
BEGIN:VEVENT
DTSTART;VALUE=DATE:20250719
DTEND;VALUE=DATE:20250720
DTSTAMP:20260421T135852
CREATED:20250331T231034Z
LAST-MODIFIED:20250627T213254Z
UID:10004813-1752883200-1752969599@elkcove.com
SUMMARY:Field & Vine Dinner
DESCRIPTION:Join us for an unforgettable evening at our Winery Estate where you’ll enjoy stunning vineyard views and a seven-course family-style dinner expertly prepared by Field & Vine chefs using ingredients sourced straight from the host and surrounding farms. Casual attire recommended. \nQuestions about this event? Contact info@fieldandvineevents.com \nGet Tickets!
URL:https://elkcove.com/event/field-vine-dinner-july-2025/
LOCATION:Elk Cove Vineyards\, 27751 NW Olson Road\, Gaston\, OR\, 97119\, United States
CATEGORIES:Dinner
ATTACH;FMTTYPE=image/jpeg:https://elkcove.com/assets/2024/08/170817_FieldandVine-9974_ElkCove-scaled.jpg
END:VEVENT
BEGIN:VEVENT
DTSTART;TZID=America/Los_Angeles:20250718T173000
DTEND;TZID=America/Los_Angeles:20250718T203000
DTSTAMP:20260421T135852
CREATED:20241213T003844Z
LAST-MODIFIED:20250708T204359Z
UID:10004789-1752859800-1752870600@elkcove.com
SUMMARY:Vibes & Vines
DESCRIPTION:Join us for an evening of live music at our vineyard’s amphitheater\, where you can enjoy tunes from some of our favorite local bands while sipping on Elk Cove wines\, available by the glass or bottle. Arrive early to grab a picnic table\, or feel free to bring your own blanket and chairs. Picnics are encouraged\, and we’ll have a food truck on-site. On July 18th\, we’ll feature Folk-inspired Indie/Rock band\, Falcon Heart with delicious bites from 808 Grinds.\n\n\n\n\n  \nTickets are $10. Get your Vibes & Vines tickets here! \n  \nVibes & Vines 2025 dates: \nJuly 18th | Falcon Heart & 808 Grinds \nAugust 15th |Stump City Soul & Let’s Roll PDX \nSeptember 12th | Motel Kalifornia & Los Kopitos \n  \nPhotos from 2024 Vibes & Vines:
URL:https://elkcove.com/event/vibes-vines-july-2025/
LOCATION:Elk Cove Vineyards\, 27751 NW Olson Road\, Gaston\, OR\, 97119\, United States
CATEGORIES:Performance
ATTACH;FMTTYPE=image/png:https://elkcove.com/assets/2024/03/Vibes_and_Vibes_logos-03.png
END:VEVENT
BEGIN:VEVENT
DTSTART;TZID=America/Los_Angeles:20250712T173000
DTEND;TZID=America/Los_Angeles:20250712T200000
DTSTAMP:20260421T135852
CREATED:20250325T202452Z
LAST-MODIFIED:20250624T180018Z
UID:10004810-1752341400-1752350400@elkcove.com
SUMMARY:Opera in the Vineyard
DESCRIPTION:Join us for Portland Opera’s Opera a la Cart at Elk Cove! Pack a picnic\, bring a blanket\, and listen to operatic arias floating over the vines. This is a complimentary event\, wine will be available by the bottle. \nReserve your spot here
URL:https://elkcove.com/event/opera-in-the-vineyard-2025/
LOCATION:Elk Cove Vineyards\, 27751 NW Olson Road\, Gaston\, OR\, 97119\, United States
CATEGORIES:Performance
ATTACH;FMTTYPE=image/jpeg:https://elkcove.com/assets/opera-banner-scaled.jpg
END:VEVENT
BEGIN:VEVENT
DTSTART;VALUE=DATE:20250621
DTEND;VALUE=DATE:20250622
DTSTAMP:20260421T135852
CREATED:20241212T215057Z
LAST-MODIFIED:20250508T205535Z
UID:10004786-1750464000-1750550399@elkcove.com
SUMMARY:Rising Tide Wine Fest
DESCRIPTION:Join us for our sophomore edition of Rising Tide – tasting wines from our favorite independent local producers among the vines. Ticket includes wine samples from 15 participating wineries\, snacks from Miss Hannah’s Popcorn\, and a commemorative Rising Tide wine glass. Food will be available for purchase from Let’s Roll PDX and Trellis Mobile Wood-Fired Pizza\, DJ Karl Kling will be spinning classic yacht rock\, and we’ll have lots of commemorative merch available for sale. We can’t wait to have you join us! \nBook your 2025 Rising Tide Wine Fest tickets \nEvent website: risingtidewinefest.com \n  \nParticipating Wineries for the 2025 Fest include: \nApproachment Wines\nAugustina Cellars\nRicochet Wines\nMendivia Wine Cellars\nHuman Cellars\nFlipturn Cellars\nSatyr Fire Wines\nBacus Vineyards\nLimited Addition Wines\nLagniappe/Rebora Wines\nRatio Wines\nDavid Paige Wines\nCompris Vineyards\nPike Road Wines\nElk Cove Vineyards \n  \nPhotos from Rising Tide Wine Fest 2024: \n  \n  \n  \n  \n 
URL:https://elkcove.com/event/rising-tide-wine-fest-2025/
LOCATION:Elk Cove Vineyards\, 27751 NW Olson Road\, Gaston\, OR\, 97119\, United States
CATEGORIES:Celebration,Wine Tasting
ATTACH;FMTTYPE=image/jpeg:https://elkcove.com/assets/2024/12/2025_Rising_Tide_Poster-7728_LR_logo.jpg
END:VEVENT
BEGIN:VEVENT
DTSTART;TZID=America/Los_Angeles:20250613T173000
DTEND;TZID=America/Los_Angeles:20250613T203000
DTSTAMP:20260421T135852
CREATED:20241212T211653Z
LAST-MODIFIED:20250516T173338Z
UID:10004785-1749835800-1749846600@elkcove.com
SUMMARY:Vibes & Vines
DESCRIPTION:We had such a great time last year that we’re bringing back Vibes & Vines! \nJoin us for an evening of live music at our vineyard’s amphitheater\, where you can enjoy tunes from some of our favorite local bands while sipping on Elk Cove wines\, available by the glass or bottle. Arrive early to grab a picnic table\, or feel free to bring your own blanket and chairs. Picnics are encouraged\, and we’ll have a food truck on-site. On June 13th\, we’ll feature Americana/Country band\, Elisabeth Ames & the Countrypolitans\, with delicious bites from MidCity Smash Burger. \n  \nTickets are $10. Get your Vibes & Vines tickets here! \n  \nVibes & Vines 2025 dates: \nJune 13th | Elisabeth Ames and the Countrypolitans & MidCity Smash Burgers \nJuly 18th | Falcon Heart & 808 Grinds \nAugust 15th | Stump City Soul & Let’s Roll PDX \nSeptember 12th | Motel Kalifornia & Los Kopitos \n  \nPhotos from 2024 Vibes & Vines:  \n\n\n\n\n\n\n\n    \n 
URL:https://elkcove.com/event/vibes-vines-june-2025/
LOCATION:Elk Cove Vineyards\, 27751 NW Olson Road\, Gaston\, OR\, 97119\, United States
CATEGORIES:Performance
ATTACH;FMTTYPE=image/png:https://elkcove.com/assets/2024/03/Vibes_and_Vibes_logos-03.png
END:VEVENT
BEGIN:VEVENT
DTSTART;TZID=America/Los_Angeles:20250608T100000
DTEND;TZID=America/Los_Angeles:20250608T113000
DTSTAMP:20260421T135852
CREATED:20241213T005634Z
LAST-MODIFIED:20250520T213151Z
UID:10004801-1749376800-1749382200@elkcove.com
SUMMARY:Vineyard Hike I
DESCRIPTION:Enjoy the brisk morning air while on a hike with Creative Director and family member Anna Campbell! She’ll guide outdoor enthusiasts to remote parts of our Winery Estate\, touring the vineyards while sharing personal stories about growing up at Elk Cove Vineyards. \nEach hike is designed to explore different seasonal topics in viticulture\, winemaking and family history. \nHikes are mostly moderate activity level with some difficulty. We recommend sturdy shoes\, sun protection and a moderate level of fitness for this rugged experience out in the vineyards. The hike is approximately 2 miles with hills and uneven ground. If you’d like to enjoy a tasting flight after\, we strongly recommend making a reservation in advance for a tasting at noon. \nBook your reservation. \nAbout your host: \nAnna grew up at Elk Cove and worked a harvest every few years before returning to the family business in 2012. Trained as a photographer\, Anna manages our websites\, creates marketing materials and runs our newsletters and social media channels. She holds a master’s degree in strategic communication from the University of Oregon. Anna can often be found hiking to an Oregon waterfall with her wife Tex and their twins. \n 
URL:https://elkcove.com/event/hikes-2025-2/
LOCATION:Elk Cove Vineyards\, 27751 NW Olson Road\, Gaston\, OR\, 97119\, United States
CATEGORIES:Hike
ATTACH;FMTTYPE=image/jpeg:https://elkcove.com/assets/2022/02/20210926_Hike-1599_LR.jpg
END:VEVENT
BEGIN:VEVENT
DTSTART;TZID=America/Los_Angeles:20250607T110000
DTEND;TZID=America/Los_Angeles:20250607T160000
DTSTAMP:20260421T135852
CREATED:20250211T204000Z
LAST-MODIFIED:20250304T234305Z
UID:10004807-1749294000-1749312000@elkcove.com
SUMMARY:Roosevelt Club Block Party
DESCRIPTION:Join us on Saturday\, June 7th\, for a block party to celebrate you! Enjoy Paella\, Pizza + desserts from Humble Spirit\, live music by local band Tanner Cundy + Two (his percussionist is the same one who performs for Pink Martini!) and\, of course\, delicious Elk Cove wines. This event is complimentary for all Roosevelt club members (up to four). We can’t wait to see you there! \nFree\, by Reservation
URL:https://elkcove.com/event/roosevelt-club-block-party-2025/
LOCATION:Elk Cove Vineyards\, 27751 NW Olson Road\, Gaston\, OR\, 97119\, United States
CATEGORIES:Wine Club
ATTACH;FMTTYPE=image/jpeg:https://elkcove.com/assets/2024/10/ElkCoveLifestyle-272-scaled.jpg
END:VEVENT
BEGIN:VEVENT
DTSTART;TZID=America/Los_Angeles:20250524T140000
DTEND;TZID=America/Los_Angeles:20250524T170000
DTSTAMP:20260421T135852
CREATED:20250415T173151Z
LAST-MODIFIED:20250519T223024Z
UID:10004823-1748095200-1748106000@elkcove.com
SUMMARY:SOLD OUT Éclade des Moules with Tournant
DESCRIPTION:Join us for Tournant’s beloved Farm to Fire cuisine! This convivial\, interactive food and fire experience from Tournant features an entirely pescatarian menu with an emphasis on locally harvested seafood\, including fresh Pacific oysters\, mussels\, clams\, albacore tuna\, bay shrimp and Dungeness crab\, all paired beautifully with Elk Cove sparkling wines\, crisp whites\, and Pinots. \n  \nSOLD OUT! \nBook your reservation
URL:https://elkcove.com/event/collaboration-dinner-with-tournant/
LOCATION:Elk Cove Vineyards\, 27751 NW Olson Road\, Gaston\, OR\, 97119\, United States
ATTACH;FMTTYPE=image/jpeg:https://elkcove.com/assets/2025/04/Tournant-Portland-web.jpg
END:VEVENT
BEGIN:VEVENT
DTSTART;VALUE=DATE:20250517
DTEND;VALUE=DATE:20250518
DTSTAMP:20260421T135852
CREATED:20241209T230458Z
LAST-MODIFIED:20250507T203257Z
UID:10004780-1747440000-1747526399@elkcove.com
SUMMARY:Flights + Bites
DESCRIPTION:Flights + Bites | Saturday\, May 17th\, 2025 | 10am – 5pm \nJoin us for wine and food pairings featuring a special flight of Elk Cove wines paired with foods that enhance the tasting experience. For May’s Flights + Bites\, we’re celebrating Mexican cuisine\, with catering by Los Kopitos. \n$45/$15 for club members. \nBook your reservation
URL:https://elkcove.com/event/flight-bites-may-2025/
LOCATION:Elk Cove Vineyards\, 27751 NW Olson Road\, Gaston\, OR\, 97119\, United States
CATEGORIES:Wine Pairings,Wine Tasting
ATTACH;FMTTYPE=image/jpeg:https://elkcove.com/assets/2024/12/flightsbites2.jpg
END:VEVENT
BEGIN:VEVENT
DTSTART;VALUE=DATE:20250511
DTEND;VALUE=DATE:20250512
DTSTAMP:20260421T135852
CREATED:20241212T201912Z
LAST-MODIFIED:20250415T165432Z
UID:10004781-1746921600-1747007999@elkcove.com
SUMMARY:Mother's Day "High Tea"
DESCRIPTION:Bring your favorite mom for a “high tea” wine tasting in the Estate Room. Enjoy a special wine flight paired with our take on classic tea-time bites\, thoughtfully prepared by Patty Vance. This experience is available by reservation only at 11 AM or 2 PM. \nKarie from Roots Floral will be in our courtyard from 11 am to 4 pm\, offering bouquets for purchase or the opportunity to create your own. \n$45/$15 for club members \nBook your reservation.
URL:https://elkcove.com/event/mothers-day-tasting-elk-cove-2025/
LOCATION:Elk Cove Vineyards\, 27751 NW Olson Road\, Gaston\, OR\, 97119\, United States
CATEGORIES:Wine Tasting
ATTACH;FMTTYPE=image/jpeg:https://elkcove.com/assets/2024/12/2025_04_14_Mothers_Day_High_Tea_v4.jpg
END:VEVENT
END:VCALENDAR