BEGIN:VCALENDAR
VERSION:2.0
PRODID:-//Elk Cove Vineyards - ECPv6.15.17.1//NONSGML v1.0//EN
CALSCALE:GREGORIAN
METHOD:PUBLISH
X-WR-CALNAME:Elk Cove Vineyards
X-ORIGINAL-URL:https://elkcove.com
X-WR-CALDESC:Events for Elk Cove Vineyards
REFRESH-INTERVAL;VALUE=DURATION:PT1H
X-Robots-Tag:noindex
X-PUBLISHED-TTL:PT1H
BEGIN:VTIMEZONE
TZID:America/Los_Angeles
BEGIN:DAYLIGHT
TZOFFSETFROM:-0800
TZOFFSETTO:-0700
TZNAME:PDT
DTSTART:20250309T100000
END:DAYLIGHT
BEGIN:STANDARD
TZOFFSETFROM:-0700
TZOFFSETTO:-0800
TZNAME:PST
DTSTART:20251102T090000
END:STANDARD
BEGIN:DAYLIGHT
TZOFFSETFROM:-0800
TZOFFSETTO:-0700
TZNAME:PDT
DTSTART:20260308T100000
END:DAYLIGHT
BEGIN:STANDARD
TZOFFSETFROM:-0700
TZOFFSETTO:-0800
TZNAME:PST
DTSTART:20261101T090000
END:STANDARD
BEGIN:DAYLIGHT
TZOFFSETFROM:-0800
TZOFFSETTO:-0700
TZNAME:PDT
DTSTART:20270314T100000
END:DAYLIGHT
BEGIN:STANDARD
TZOFFSETFROM:-0700
TZOFFSETTO:-0800
TZNAME:PST
DTSTART:20271107T090000
END:STANDARD
END:VTIMEZONE
BEGIN:VEVENT
DTSTART;VALUE=DATE:20260725
DTEND;VALUE=DATE:20260726
DTSTAMP:20260421T122300
CREATED:20251217T182710Z
LAST-MODIFIED:20251217T182710Z
UID:10004850-1784937600-1785023999@elkcove.com
SUMMARY:Summer Field & Vine Dinner
DESCRIPTION:Stay tuned for details.
URL:https://elkcove.com/event/summer-field-vine-dinner/
LOCATION:Elk Cove Vineyards\, 27751 NW Olson Road\, Gaston\, OR\, 97119\, United States
ATTACH;FMTTYPE=image/jpeg:https://elkcove.com/assets/2025/03/field-and-vine-dinner.jpg
END:VEVENT
BEGIN:VEVENT
DTSTART;TZID=America/Los_Angeles:20260822T053000
DTEND;TZID=America/Los_Angeles:20260822T083000
DTSTAMP:20260421T122300
CREATED:20251217T184119Z
LAST-MODIFIED:20260403T194015Z
UID:10004853-1787376600-1787387400@elkcove.com
SUMMARY:Supper in the Cellar
DESCRIPTION:On August 22nd\, we’re partnering with our friends at Field + Vine Events to host a five-course dinner in Big Red\, the winemaking space reserved for our Pinot Noir production. Each dish will be thoughtfully paired with an Elk Cove wine\, and the lineup will include selections from our library. In addition\, Associate Winemaker Heather Perkin will lead a discussion on the process of Pinot Noir winemaking. This exclusive look behind the scenes is limited to 65 guests\, so get your tickets today! \nTickets coming soon!
URL:https://elkcove.com/event/barrel-hall-tasting/
LOCATION:Elk Cove Vineyards\, 27751 NW Olson Road\, Gaston\, OR\, 97119\, United States
CATEGORIES:Dinner
ATTACH;FMTTYPE=image/jpeg:https://elkcove.com/assets/2023/10/2023_08_18_Golden_Hour-2797_HR-scaled.jpg
END:VEVENT
BEGIN:VEVENT
DTSTART;VALUE=DATE:20260912
DTEND;VALUE=DATE:20260913
DTSTAMP:20260421T122300
CREATED:20251217T184754Z
LAST-MODIFIED:20251217T184830Z
UID:10004854-1789171200-1789257599@elkcove.com
SUMMARY:Club Picnic
DESCRIPTION:Club members save the date! Stay tuned for details.
URL:https://elkcove.com/event/club-picnic/
LOCATION:Elk Cove Vineyards\, 27751 NW Olson Road\, Gaston\, OR\, 97119\, United States
ATTACH;FMTTYPE=image/jpeg:https://elkcove.com/assets/2024/10/2023_08_18_Golden_Hour-2917_HR-scaled.jpg
END:VEVENT
BEGIN:VEVENT
DTSTART;VALUE=DATE:20260913
DTEND;VALUE=DATE:20260914
DTSTAMP:20260421T122300
CREATED:20251217T185046Z
LAST-MODIFIED:20251217T185046Z
UID:10004855-1789257600-1789343999@elkcove.com
SUMMARY:Vineyard Hike
DESCRIPTION:Stay tuned for details.
URL:https://elkcove.com/event/vineyard-hike/
LOCATION:Elk Cove Vineyards\, 27751 NW Olson Road\, Gaston\, OR\, 97119\, United States
ATTACH;FMTTYPE=image/jpeg:https://elkcove.com/assets/2022/02/20210926_Hike-1599_LR.jpg
END:VEVENT
BEGIN:VEVENT
DTSTART;VALUE=DATE:20260919
DTEND;VALUE=DATE:20260920
DTSTAMP:20260421T122300
CREATED:20251217T185342Z
LAST-MODIFIED:20260402T232342Z
UID:10004856-1789776000-1789862399@elkcove.com
SUMMARY:Collectors Club Dinner
DESCRIPTION:The Campbell family hosts members of our Collectors Club exclusively for a complimentary dinner to celebrate harvest and show our appreciation. This is a special multi-course dining experience complimented by Elk Cove library wines. By reservation only. \n Complimentary for members of the Collectors Wine Club. Not a member yet? Find out how to join this Pinot Noir only wine club here.
URL:https://elkcove.com/event/collectors-club-winemakers-dinner/
LOCATION:Elk Cove Vineyards\, 27751 NW Olson Road\, Gaston\, OR\, 97119\, United States
ATTACH;FMTTYPE=image/jpeg:https://elkcove.com/assets/2022/01/20211018_Collectors_Club-1530_LR.jpg
END:VEVENT
BEGIN:VEVENT
DTSTART;TZID=America/Los_Angeles:20261107T150000
DTEND;TZID=America/Los_Angeles:20261107T170000
DTSTAMP:20260421T122300
CREATED:20251217T185655Z
LAST-MODIFIED:20260205T231149Z
UID:10004857-1794063600-1794070800@elkcove.com
SUMMARY:Brine & Bubbles Happy Hour - Club Exclusive Event
DESCRIPTION:Join us for an indulgent happy hour of fresh oysters and sparkling wine at Elk Cove Vineyards. Our new releases of sparkling wine will be flowing to perfectly pair with the fresh oysters and a curated selection of accompaniments. Come raise a glass with us to toast the upcoming holiday season! \nClub exclusive event
URL:https://elkcove.com/event/brine-bubbles-happy-hour/
LOCATION:Elk Cove Vineyards\, 27751 NW Olson Road\, Gaston\, OR\, 97119\, United States
ATTACH;FMTTYPE=image/jpeg:https://elkcove.com/assets/2025/05/BrutRoseBanner-2-edited.jpg
END:VEVENT
BEGIN:VEVENT
DTSTART;VALUE=DATE:20261128
DTEND;VALUE=DATE:20261129
DTSTAMP:20260421T122300
CREATED:20251217T190555Z
LAST-MODIFIED:20251217T190555Z
UID:10004858-1795824000-1795910399@elkcove.com
SUMMARY:Holiday Market at Elk Cove Vineyards
DESCRIPTION:Join us for a festive day of wine and holiday shopping. Enjoy a wine tasting while exploring our Holiday Market\, featuring 10+ amazing local vendors in our gorgeous Estate Room. Bring your family and friends and shop local before the holiday rush begins.
URL:https://elkcove.com/event/holiday-market-at-elk-cove-vineyards/
LOCATION:Elk Cove Vineyards\, 27751 NW Olson Road\, Gaston\, OR\, 97119\, United States
ATTACH;FMTTYPE=image/jpeg:https://elkcove.com/assets/2025/12/2024_11_30_Holiday_Market-1722-MR16111397-scaled.jpg
END:VEVENT
END:VCALENDAR